BEGIN:VCALENDAR
VERSION:2.0
PRODID:-//ChamberMaster//Event Calendar 2.0//EN
METHOD:PUBLISH
X-PUBLISHED-TTL:P3D
REFRESH-INTERVAL:P3D
CALSCALE:GREGORIAN
BEGIN:VEVENT
DTSTART:20230318T140000Z
DTEND:20230318T170000Z
X-MICROSOFT-CDO-ALLDAYEVENT:FALSE
SUMMARY:The Economic Importance of Forestry in McCormick County\, SC
DESCRIPTION:The Economic Importance of Forestry in McCormick County\, SC\n\nThe McCormick County Chamber of Commerce and area Forestry Organization representatives will share their efforts to promote economic growth in our county. Visit our booth to learn more at the annual AG Fest @ SC Governor's School for Agriculture @ John de la Howe.
X-ALT-DESC;FMTTYPE=text/html:The Economic Importance of Forestry in McCormick County\, SC<br />\nThe McCormick County Chamber of Commerce and area Forestry Organization representatives will share their efforts to promote economic growth in our county. Visit our booth to learn more at the annual AG Fest @ SC Governor&#39\;s School for Agriculture @ John de la Howe.<br />\n&nbsp\;
LOCATION:SC Governor's School for Agriculture @ John de la Howe Ag Fest 2023 192 Gettys Rd McCormick SC 29835
UID:e.866.14411
SEQUENCE:3
DTSTAMP:20260421T081153Z
URL:https://visit.mccormickscchamber.org/events/details/the-economic-importance-of-forestry-in-mccormick-county-sc-14411
END:VEVENT

END:VCALENDAR
