BEGIN:VCALENDAR
VERSION:2.0
PRODID:-//ChamberMaster//Event Calendar 2.0//EN
METHOD:PUBLISH
X-PUBLISHED-TTL:P3D
REFRESH-INTERVAL:P3D
CALSCALE:GREGORIAN
BEGIN:VEVENT
DTSTART:20330621T220000Z
DTEND:20330621T230000Z
X-MICROSOFT-CDO-ALLDAYEVENT:FALSE
SUMMARY:McCormick County Monthly Meeting
DESCRIPTION:Open county council meeting
X-ALT-DESC;FMTTYPE=text/html:Open county council meeting
LOCATION:610 South Mine St McCormick SC 29835
UID:e.866.15335
SEQUENCE:3
DTSTAMP:20260420T210325Z
URL:https://visit.mccormickscchamber.org/events/details/mccormick-county-monthly-meeting-06-21-2033-15335
END:VEVENT

END:VCALENDAR
