BEGIN:VCALENDAR
VERSION:2.0
PRODID:-//ChamberMaster//Event Calendar 2.0//EN
METHOD:PUBLISH
X-PUBLISHED-TTL:P3D
REFRESH-INTERVAL:P3D
CALSCALE:GREGORIAN
BEGIN:VEVENT
DTSTART:20210610T153000Z
DTEND:20210610T173000Z
X-MICROSOFT-CDO-ALLDAYEVENT:FALSE
SUMMARY:Lunch and Learn
DESCRIPTION:Lunch and Learn with Alyssa Richardson\, Deputy Chief of Staff\, Office of US Senator Tim Scott\n\n\n\nMs. Richardson will address topics related to Economic Development\, Infrastructure spending and the Opportunity Zones.
X-ALT-DESC;FMTTYPE=text/html:Lunch and Learn with Alyssa Richardson\, Deputy Chief of Staff\, Office of US Senator Tim Scott<br />\n<br />\nMs. Richardson will address topics related to Economic Development\, Infrastructure spending and the Opportunity Zones.&nbsp\;
LOCATION:Savannah Lakes Village Tara Gold Club/River Grill 300 Country Club Drive McCormick SC 29835
UID:e.866.12739
SEQUENCE:3
DTSTAMP:20260426T030153Z
URL:https://visit.mccormickscchamber.org/events/details/lunch-and-learn-12739
END:VEVENT

END:VCALENDAR
