BEGIN:VCALENDAR
VERSION:2.0
PRODID:-//ChamberMaster//Event Calendar 2.0//EN
METHOD:PUBLISH
X-PUBLISHED-TTL:P3D
REFRESH-INTERVAL:P3D
CALSCALE:GREGORIAN
BEGIN:VEVENT
DTSTART:20221202T231500Z
DTEND:20221203T000000Z
X-MICROSOFT-CDO-ALLDAYEVENT:FALSE
SUMMARY:Holiday on Main Tree Lighting
DESCRIPTION:Holiday on Main Tree Lighting Ceremony\n\n6:15 pm How the Grinch Stole Christmas skit performed by Green Curtains\n\nImmediately following the skit\, the Grinch will light our community Christmas tree\n\nBring your chairs\, bring a picnic\, sit and enjoy the Green Curtains production. There will also be chairs available. There will be sweet treats and food available for purchase.
X-ALT-DESC;FMTTYPE=text/html:Holiday on Main Tree Lighting Ceremony<br />\n6:15 pm How the Grinch Stole Christmas skit performed by Green Curtains<br />\nImmediately following the skit\, the Grinch will light our community Christmas tree<br />\nBring your chairs\, bring a picnic\, sit and enjoy the Green Curtains production. There will also be chairs available. There will be sweet treats and food available for purchase.&nbsp\;<br />\n&nbsp\;
LOCATION:Dorn Mill Complex Lawn area behind the Cotton Gin 206 N Main Street McCormick SC 29835
UID:e.866.13534
SEQUENCE:3
DTSTAMP:20260422T120421Z
URL:https://visit.mccormickscchamber.org/events/details/holiday-on-main-tree-lighting-13534
END:VEVENT

END:VCALENDAR
